BEGIN:VCALENDAR
VERSION:2.0
PRODID:-//Alternative Justice Systems - ECPv6.0.13.1//NONSGML v1.0//EN
CALSCALE:GREGORIAN
METHOD:PUBLISH
X-ORIGINAL-URL:https://ajskenya.or.ke
X-WR-CALDESC:Events for Alternative Justice Systems
REFRESH-INTERVAL;VALUE=DURATION:PT1H
X-Robots-Tag:noindex
X-PUBLISHED-TTL:PT1H
BEGIN:VTIMEZONE
TZID:Africa/Nairobi
BEGIN:STANDARD
TZOFFSETFROM:+0300
TZOFFSETTO:+0300
TZNAME:EAT
DTSTART:20230101T000000
END:STANDARD
END:VTIMEZONE
BEGIN:VEVENT
DTSTART;TZID=Africa/Nairobi:20230626T080000
DTEND;TZID=Africa/Nairobi:20230628T170000
DTSTAMP:20260425T190705
CREATED:20221115T095447Z
LAST-MODIFIED:20230623T213404Z
UID:3755-1687766400-1687971600@ajskenya.or.ke
SUMMARY:2nd Annual AJS Conference
DESCRIPTION:About the Conference THE 2nd NATIONAL CONFERENCE ON ALTERNATIVE JUSTICE SYSTEMS IN KENYA THEME: AJS AS CULTURE AND INNOVATION IN ACCELERATING SOCIAL TRANSFORMATION THROUGH ACCESS TO JUSTICE   Date:                                                                                       26th – 28th June 2023 Venue:                                                                                    Tangaza University College Convener:                                                                              NaSCI-AJS     Overview:  The National Steering Committee on the Implementation of the Alternative Justice Systems Policy (NaSCI-AJS) will convene the 2nd Annual National Conference on Alternative Justice Systems in Kenya. The conference will bring together justice actors\, practitioners\, judicial officers\, academics\, policy makers\, civil society actors\, development partners\, and all stakeholders in the Access to Justice Ecosystem. The conference will be fulfilling one of the major objectives of the committee to rally all sectors of Kenyan social\, religious\, judiciary and cultural life to continuously and emphatically support the AJS mechanism and expand the pool of individuals and groups accessing justice in Kenya.  (more…)
URL:https://ajskenya.or.ke/event/2nd-ajs-conference/
LOCATION:Tangaza University\, Tangaza University College\, Nairobi\, Kenya
ATTACH;FMTTYPE=image/jpeg:https://ajskenya.or.ke/wp-content/uploads/2022/04/image-2-scaled.jpg
ORGANIZER;CN="NaSCI-AJS":MAILTO:ajs.secretariat@gmail.com
END:VEVENT
END:VCALENDAR