BEGIN:VCALENDAR
VERSION:2.0
PRODID:-//Alternative Justice Systems - ECPv6.0.13.1//NONSGML v1.0//EN
CALSCALE:GREGORIAN
METHOD:PUBLISH
X-WR-CALNAME:Alternative Justice Systems
X-ORIGINAL-URL:https://ajskenya.or.ke
X-WR-CALDESC:Events for Alternative Justice Systems
REFRESH-INTERVAL;VALUE=DURATION:PT1H
X-Robots-Tag:noindex
X-PUBLISHED-TTL:PT1H
BEGIN:VTIMEZONE
TZID:Africa/Nairobi
BEGIN:STANDARD
TZOFFSETFROM:+0300
TZOFFSETTO:+0300
TZNAME:EAT
DTSTART:20220101T000000
END:STANDARD
END:VTIMEZONE
BEGIN:VEVENT
DTSTART;TZID=Africa/Nairobi:20230119T080000
DTEND;TZID=Africa/Nairobi:20230120T170000
DTSTAMP:20260421T152527
CREATED:20221111T130510Z
LAST-MODIFIED:20221111T130510Z
UID:3737-1674115200-1674234000@ajskenya.or.ke
SUMMARY:NLAS Training
DESCRIPTION:
URL:https://ajskenya.or.ke/event/nlas-training/
CATEGORIES:Sensitization
ORGANIZER;CN="NaSCI-AJS":MAILTO:ajs.secretariat@gmail.com
END:VEVENT
BEGIN:VEVENT
DTSTART;TZID=Africa/Nairobi:20230104T080000
DTEND;TZID=Africa/Nairobi:20230106T170000
DTSTAMP:20260421T152527
CREATED:20221111T130330Z
LAST-MODIFIED:20221111T130330Z
UID:3733-1672819200-1673024400@ajskenya.or.ke
SUMMARY:NCIC Staff Training
DESCRIPTION:
URL:https://ajskenya.or.ke/event/ncic-staff-training/
CATEGORIES:Sensitization
ORGANIZER;CN="NaSCI-AJS":MAILTO:ajs.secretariat@gmail.com
END:VEVENT
BEGIN:VEVENT
DTSTART;TZID=Africa/Nairobi:20221208T080000
DTEND;TZID=Africa/Nairobi:20221209T170000
DTSTAMP:20260421T152527
CREATED:20221111T130009Z
LAST-MODIFIED:20221111T131958Z
UID:3727-1670486400-1670605200@ajskenya.or.ke
SUMMARY:NLC Commissioners and Directors Training
DESCRIPTION:
URL:https://ajskenya.or.ke/event/nlc-commissioners-and-directors-training/
CATEGORIES:Sensitization
ORGANIZER;CN="NaSCI-AJS":MAILTO:ajs.secretariat@gmail.com
END:VEVENT
BEGIN:VEVENT
DTSTART;VALUE=DATE:20221121
DTEND;VALUE=DATE:20221123
DTSTAMP:20260421T152527
CREATED:20221111T124225Z
LAST-MODIFIED:20221111T124225Z
UID:3709-1668988800-1669161599@ajskenya.or.ke
SUMMARY:VOI CUC Sensitization
DESCRIPTION:
URL:https://ajskenya.or.ke/event/voi-cuc-sensitization/
CATEGORIES:Sensitization
END:VEVENT
BEGIN:VEVENT
DTSTART;TZID=Africa/Nairobi:20221118T080000
DTEND;TZID=Africa/Nairobi:20221120T170000
DTSTAMP:20260421T152527
CREATED:20221111T124335Z
LAST-MODIFIED:20221115T094322Z
UID:3711-1668758400-1668963600@ajskenya.or.ke
SUMMARY:Kabarnet Law Court CUC Training
DESCRIPTION:
URL:https://ajskenya.or.ke/event/kabarnet-law-court-cuc-training/
CATEGORIES:Sensitization
END:VEVENT
BEGIN:VEVENT
DTSTART;VALUE=DATE:20221116
DTEND;VALUE=DATE:20221118
DTSTAMP:20260421T152527
CREATED:20221111T124109Z
LAST-MODIFIED:20221111T124109Z
UID:3707-1668556800-1668729599@ajskenya.or.ke
SUMMARY:Training of Kajiado ELC CUC
DESCRIPTION:
URL:https://ajskenya.or.ke/event/training-of-kajiado-elc-cuc/
CATEGORIES:Sensitization
END:VEVENT
BEGIN:VEVENT
DTSTART;TZID=Africa/Nairobi:20221110T080000
DTEND;TZID=Africa/Nairobi:20221111T170000
DTSTAMP:20260421T152527
CREATED:20221111T133622Z
LAST-MODIFIED:20221111T133622Z
UID:3751-1668067200-1668186000@ajskenya.or.ke
SUMMARY:Kigotho Cultural Elders Training
DESCRIPTION:
URL:https://ajskenya.or.ke/event/kigotho-cultural-elders-training/
CATEGORIES:Sensitization
ORGANIZER;CN="NaSCI-AJS":MAILTO:ajs.secretariat@gmail.com
END:VEVENT
END:VCALENDAR