BEGIN:VCALENDAR
VERSION:2.0
PRODID:-//Alternative Justice Systems - ECPv6.0.13.1//NONSGML v1.0//EN
CALSCALE:GREGORIAN
METHOD:PUBLISH
X-ORIGINAL-URL:https://ajskenya.or.ke
X-WR-CALDESC:Events for Alternative Justice Systems
REFRESH-INTERVAL;VALUE=DURATION:PT1H
X-Robots-Tag:noindex
X-PUBLISHED-TTL:PT1H
BEGIN:VTIMEZONE
TZID:Africa/Nairobi
BEGIN:STANDARD
TZOFFSETFROM:+0300
TZOFFSETTO:+0300
TZNAME:EAT
DTSTART:20220101T000000
END:STANDARD
END:VTIMEZONE
BEGIN:VEVENT
DTSTART;VALUE=DATE:20221121
DTEND;VALUE=DATE:20221123
DTSTAMP:20260426T054536
CREATED:20221111T124225Z
LAST-MODIFIED:20221111T124225Z
UID:3709-1668988800-1669161599@ajskenya.or.ke
SUMMARY:VOI CUC Sensitization
DESCRIPTION:
URL:https://ajskenya.or.ke/event/voi-cuc-sensitization/
CATEGORIES:Sensitization
END:VEVENT
END:VCALENDAR