BEGIN:VCALENDAR
VERSION:2.0
PRODID:-//Alternative Justice Systems - ECPv6.0.13.1//NONSGML v1.0//EN
CALSCALE:GREGORIAN
METHOD:PUBLISH
X-WR-CALNAME:Alternative Justice Systems
X-ORIGINAL-URL:https://ajskenya.or.ke
X-WR-CALDESC:Events for Alternative Justice Systems
REFRESH-INTERVAL;VALUE=DURATION:PT1H
X-Robots-Tag:noindex
X-PUBLISHED-TTL:PT1H
BEGIN:VTIMEZONE
TZID:Africa/Nairobi
BEGIN:STANDARD
TZOFFSETFROM:+0300
TZOFFSETTO:+0300
TZNAME:EAT
DTSTART:20220101T000000
END:STANDARD
END:VTIMEZONE
BEGIN:VEVENT
DTSTART;TZID=Africa/Nairobi:20221208T080000
DTEND;TZID=Africa/Nairobi:20221209T170000
DTSTAMP:20260425T194612
CREATED:20221111T130009Z
LAST-MODIFIED:20221111T131958Z
UID:3727-1670486400-1670605200@ajskenya.or.ke
SUMMARY:NLC Commissioners and Directors Training
DESCRIPTION:
URL:https://ajskenya.or.ke/event/nlc-commissioners-and-directors-training/
CATEGORIES:Sensitization
ORGANIZER;CN="NaSCI-AJS":MAILTO:ajs.secretariat@gmail.com
END:VEVENT
END:VCALENDAR