BEGIN:VCALENDAR
VERSION:2.0
PRODID:-//Alternative Justice Systems - ECPv6.0.13.1//NONSGML v1.0//EN
CALSCALE:GREGORIAN
METHOD:PUBLISH
X-WR-CALNAME:Alternative Justice Systems
X-ORIGINAL-URL:https://ajskenya.or.ke
X-WR-CALDESC:Events for Alternative Justice Systems
REFRESH-INTERVAL;VALUE=DURATION:PT1H
X-Robots-Tag:noindex
X-PUBLISHED-TTL:PT1H
BEGIN:VTIMEZONE
TZID:Africa/Nairobi
BEGIN:STANDARD
TZOFFSETFROM:+0300
TZOFFSETTO:+0300
TZNAME:EAT
DTSTART:20220101T000000
END:STANDARD
END:VTIMEZONE
BEGIN:VEVENT
DTSTART;TZID=Africa/Nairobi:20230208T080000
DTEND;TZID=Africa/Nairobi:20230208T170000
DTSTAMP:20260421T151059
CREATED:20221111T130824Z
LAST-MODIFIED:20221111T130824Z
UID:3746-1675843200-1675875600@ajskenya.or.ke
SUMMARY:Kajiado Joint CUC Meeting
DESCRIPTION:
URL:https://ajskenya.or.ke/event/kajiado-joint-cuc-meeting/
CATEGORIES:CAP
ORGANIZER;CN="NaSCI-AJS":MAILTO:ajs.secretariat@gmail.com
END:VEVENT
BEGIN:VEVENT
DTSTART;TZID=Africa/Nairobi:20230123T080000
DTEND;TZID=Africa/Nairobi:20230128T170000
DTSTAMP:20260421T151059
CREATED:20221111T130553Z
LAST-MODIFIED:20221111T130553Z
UID:3739-1674460800-1674925200@ajskenya.or.ke
SUMMARY:Kajiado AJS Clinic Week
DESCRIPTION:
URL:https://ajskenya.or.ke/event/kajiado-ajs-clinic-week/
CATEGORIES:CAP
END:VEVENT
BEGIN:VEVENT
DTSTART;TZID=Africa/Nairobi:20230118T080000
DTEND;TZID=Africa/Nairobi:20230118T170000
DTSTAMP:20260421T151059
CREATED:20221111T130426Z
LAST-MODIFIED:20221111T130426Z
UID:3735-1674028800-1674061200@ajskenya.or.ke
SUMMARY:Mombasa County CUC Meeting
DESCRIPTION:
URL:https://ajskenya.or.ke/event/mombasa-county-cuc-meeting/
CATEGORIES:CAP
ORGANIZER;CN="NaSCI-AJS":MAILTO:ajs.secretariat@gmail.com
END:VEVENT
BEGIN:VEVENT
DTSTART;TZID=Africa/Nairobi:20230109T080000
DTEND;TZID=Africa/Nairobi:20230114T170000
DTSTAMP:20260421T151059
CREATED:20221111T130223Z
LAST-MODIFIED:20221111T130223Z
UID:3731-1673251200-1673715600@ajskenya.or.ke
SUMMARY:Mombasa AJS Clinic
DESCRIPTION:
URL:https://ajskenya.or.ke/event/mombasa-ajs-clinic/
CATEGORIES:CAP
ORGANIZER;CN="NaSCI-AJS":MAILTO:ajs.secretariat@gmail.com
END:VEVENT
BEGIN:VEVENT
DTSTART;TZID=Africa/Nairobi:20221206T080000
DTEND;TZID=Africa/Nairobi:20221206T170000
DTSTAMP:20260421T151059
CREATED:20221111T125903Z
LAST-MODIFIED:20221111T125903Z
UID:3725-1670313600-1670346000@ajskenya.or.ke
SUMMARY:Mombasa Joint CUC Meeting
DESCRIPTION:
URL:https://ajskenya.or.ke/event/mombasa-joint-cuc-meeting/
CATEGORIES:CAP
END:VEVENT
BEGIN:VEVENT
DTSTART;TZID=Africa/Nairobi:20221124T080000
DTEND;TZID=Africa/Nairobi:20221125T170000
DTSTAMP:20260421T151059
CREATED:20221111T125159Z
LAST-MODIFIED:20221111T125159Z
UID:3715-1669276800-1669395600@ajskenya.or.ke
SUMMARY:Kisumu Siaya CAP Process
DESCRIPTION:
URL:https://ajskenya.or.ke/event/kisumu-siaya-cap-process/
CATEGORIES:CAP
END:VEVENT
END:VCALENDAR